BEGIN:VCALENDAR
VERSION:2.0
PRODID:-//PETR - ECPv5.1.0//NONSGML v1.0//EN
CALSCALE:GREGORIAN
METHOD:PUBLISH
X-WR-CALNAME:PETR
X-ORIGINAL-URL:https://bruche-mossig.fr
X-WR-CALDESC:Évènements pour PETR
BEGIN:VTIMEZONE
TZID:Europe/Paris
BEGIN:DAYLIGHT
TZOFFSETFROM:+0100
TZOFFSETTO:+0200
TZNAME:CEST
DTSTART:20210328T010000
END:DAYLIGHT
BEGIN:STANDARD
TZOFFSETFROM:+0200
TZOFFSETTO:+0100
TZNAME:CET
DTSTART:20211031T010000
END:STANDARD
END:VTIMEZONE
BEGIN:VEVENT
DTSTART;TZID=Europe/Paris:20210309T183000
DTEND;TZID=Europe/Paris:20210309T203000
DTSTAMP:20260420T194054
CREATED:20200914T113511Z
LAST-MODIFIED:20210120T152930Z
UID:2093-1615314600-1615321800@bruche-mossig.fr
SUMMARY:Prévention contre la cybercriminalité
DESCRIPTION:Tremplin Entreprises organise un atelier de sensibilisation à la cybercriminalité en VISIO le Mardi 9 Mars 2021 à 18h30. Cet atelier sera animé par M. Jean-Charles CANTE de la société AVIS2C. \nAu programme : \n\nPrésentation du fonctionnement au sein de la police et des institutions\nLes risques liés à la cybercriminalité\nQue faire pour limiter les attaques ?\n\nCette présentation est validée par la police judiciaire. \nInscription obligatoire au 03 88 97 25 40 ou par mail à contact@tremplin-entreprises.fr \nLe lien de la visio vous sera transmis après inscription. \n
URL:https://bruche-mossig.fr/event/prevention-et-lutte-contre-la-cybercriminalite-par-la-police-judiciaire/
LOCATION:VISIO\, France
CATEGORIES:Développement territorial
ATTACH;FMTTYPE=image/jpeg:https://bruche-mossig.fr/wp-content/uploads/2020/09/technologie-piratage-securite_24640-25414.jpg
END:VEVENT
END:VCALENDAR