BEGIN:VCALENDAR
VERSION:2.0
PRODID:-//PETR - ECPv5.1.0//NONSGML v1.0//EN
CALSCALE:GREGORIAN
METHOD:PUBLISH
X-WR-CALNAME:PETR
X-ORIGINAL-URL:https://bruche-mossig.fr
X-WR-CALDESC:Évènements pour PETR
BEGIN:VTIMEZONE
TZID:Europe/Paris
BEGIN:DAYLIGHT
TZOFFSETFROM:+0100
TZOFFSETTO:+0200
TZNAME:CEST
DTSTART:20220327T010000
END:DAYLIGHT
BEGIN:STANDARD
TZOFFSETFROM:+0200
TZOFFSETTO:+0100
TZNAME:CET
DTSTART:20221030T010000
END:STANDARD
END:VTIMEZONE
BEGIN:VEVENT
DTSTART;TZID=Europe/Paris:20220328T173000
DTEND;TZID=Europe/Paris:20220328T193000
DTSTAMP:20260422T162950
CREATED:20220316T095338Z
LAST-MODIFIED:20220323T131256Z
UID:3104-1648488600-1648495800@bruche-mossig.fr
SUMMARY:Comité de programmation LEADER
DESCRIPTION:Le comité de programmation Leader se réunira le lundi 28 mars 2022 à 17h30 à Wangenbourg Engenthal\, 5 rue du château. \nVoici l’ordre du jour prévisionnel : \n\nAvancées de la programmation 2014-2020\nActualités Leader\nProgrammation de subventions\nPrésentation de projets en présence des porteurs\nElaboration de la candidature du GAL pour 2023-2027 : en présence du bureau d’études Oréade Brèche\nDécisions du comité\n\n
URL:https://bruche-mossig.fr/event/comite-de-programmation-leader-6/
LOCATION:« Les Terrasses »\, 5 rue du Château\, WANGENBOURG ENGENTHAL\, 67710\, France
CATEGORIES:Développement territorial
ATTACH;FMTTYPE=image/png:https://bruche-mossig.fr/wp-content/uploads/2020/06/21.-LEADER-FRANCE-120x136-1.png
ORGANIZER;CN="PETR%20Bruche%20Mossig":MAILTO:contact@petrbruchemossig.fr
END:VEVENT
END:VCALENDAR