BEGIN:VCALENDAR
VERSION:2.0
PRODID:-//PETR - ECPv5.1.0//NONSGML v1.0//EN
CALSCALE:GREGORIAN
METHOD:PUBLISH
X-WR-CALNAME:PETR
X-ORIGINAL-URL:https://bruche-mossig.fr
X-WR-CALDESC:Évènements pour PETR
BEGIN:VTIMEZONE
TZID:Europe/Paris
BEGIN:DAYLIGHT
TZOFFSETFROM:+0100
TZOFFSETTO:+0200
TZNAME:CEST
DTSTART:20220327T010000
END:DAYLIGHT
BEGIN:STANDARD
TZOFFSETFROM:+0200
TZOFFSETTO:+0100
TZNAME:CET
DTSTART:20221030T010000
END:STANDARD
END:VTIMEZONE
BEGIN:VEVENT
DTSTART;TZID=Europe/Paris:20220630T163000
DTEND;TZID=Europe/Paris:20220630T190000
DTSTAMP:20260422T112121
CREATED:20220608T131444Z
LAST-MODIFIED:20220608T131444Z
UID:3156-1656606600-1656615600@bruche-mossig.fr
SUMMARY:Comité de programmation LEADER
DESCRIPTION:Le comité de programmation Leader se réunira le jeudi 30 juin 2022 à 17h30 au musée Oberlin à Waldersbach \, 25 montée Oberlin. \nA 16h30\, Estelle Mery\, conservatrice du musée Oberlin\, propose\, aux membres du comité\, une découverte de la collection des herbiers et des outils de médiation financés dans le cadre du programme Leader. \nVoici l’ordre du jour prévisionnel : \n\nActualités de la programmation: état d’avancement\, coopération\nElaboration de la candidature LEADER 2023-2027:\nProgrammation de subventions\nPrésentation de projets et décisions du comité\n\nMerci de nous faire part de votre participation au comité ainsi qu’à la visite du musée avant le 17 juin 2022 à cassandre.tiphaine@gmail.com. \n
URL:https://bruche-mossig.fr/event/comite-de-programmation-leader-7/
LOCATION:musée Oberlin\, 25\, montée Oberlin\, Waldersbach\, 67130\, France
CATEGORIES:Développement territorial
ATTACH;FMTTYPE=image/jpeg:https://bruche-mossig.fr/wp-content/uploads/2022/04/logo-ue-feader-leader-.jpg
END:VEVENT
END:VCALENDAR