BEGIN:VCALENDAR
VERSION:2.0
PRODID:-//PETR - ECPv5.1.0//NONSGML v1.0//EN
CALSCALE:GREGORIAN
METHOD:PUBLISH
X-WR-CALNAME:PETR
X-ORIGINAL-URL:https://bruche-mossig.fr
X-WR-CALDESC:Évènements pour PETR
BEGIN:VTIMEZONE
TZID:Europe/Paris
BEGIN:DAYLIGHT
TZOFFSETFROM:+0100
TZOFFSETTO:+0200
TZNAME:CEST
DTSTART:20220327T010000
END:DAYLIGHT
BEGIN:STANDARD
TZOFFSETFROM:+0200
TZOFFSETTO:+0100
TZNAME:CET
DTSTART:20221030T010000
END:STANDARD
END:VTIMEZONE
BEGIN:VEVENT
DTSTART;TZID=Europe/Paris:20221011T193000
DTEND;TZID=Europe/Paris:20221011T210000
DTSTAMP:20260422T055236
CREATED:20221005T155800Z
LAST-MODIFIED:20221005T155800Z
UID:3290-1665516600-1665522000@bruche-mossig.fr
SUMMARY:TREMPLIN ENTREPRISES: Atelier numérique
DESCRIPTION:\nVous souhaitez créer un site internet ? \nVous avez déjà un site et vous souhaitez le rendre dynamique et actuel ainsi qu’optimiser votre référencement ? \nInscrivez-vous dès maintenant à l’atelier numérique organisé par Tremplin Entreprises et la Chambre de Métiers d’Alsace – CMA le Mardi 11 Octobre 2022 à 19h30. \n\n\nAtelier gratuit\, inscrivez-vous en cliquant sur ce lien: \nCLIQUEZ ICI ⬅\n\n
URL:https://bruche-mossig.fr/event/tremplin-entreprises-atelier-numerique/
LOCATION:Tremplin Entreprises\, 1 rue Gambrinus\, Mutzig\, 67190\, France
CATEGORIES:Développement territorial
ATTACH;FMTTYPE=image/png:https://bruche-mossig.fr/wp-content/uploads/2022/10/atelier-numerique-11.10.png
END:VEVENT
END:VCALENDAR