BEGIN:VCALENDAR
VERSION:2.0
PRODID:-//PETR - ECPv5.1.0//NONSGML v1.0//EN
CALSCALE:GREGORIAN
METHOD:PUBLISH
X-WR-CALNAME:PETR
X-ORIGINAL-URL:https://bruche-mossig.fr
X-WR-CALDESC:Évènements pour PETR
BEGIN:VTIMEZONE
TZID:Europe/Paris
BEGIN:DAYLIGHT
TZOFFSETFROM:+0100
TZOFFSETTO:+0200
TZNAME:CEST
DTSTART:20230326T010000
END:DAYLIGHT
BEGIN:STANDARD
TZOFFSETFROM:+0200
TZOFFSETTO:+0100
TZNAME:CET
DTSTART:20231029T010000
END:STANDARD
END:VTIMEZONE
BEGIN:VEVENT
DTSTART;TZID=Europe/Paris:20230206T090000
DTEND;TZID=Europe/Paris:20230206T103000
DTSTAMP:20260421T224717
CREATED:20230214T145002Z
LAST-MODIFIED:20230214T145002Z
UID:3490-1675674000-1675679400@bruche-mossig.fr
SUMMARY:Atelier marché public à Tremplin Entreprises
DESCRIPTION:Grand E-Nov+\, coordinateur du Réseau Commande Publique Grand Est\, organise en partenariat avec le PETR Bruche Mossig et Tremplin Entreprises\, l’atelier :\n« Entreprises : tout comprendre des dispositions sociales et environnementales dans les marchés publics » le lundi 6 février 2023 de 9h à 10h30 à Tremplin Entreprises. \nLes marchés publics comportent de plus en plus de dispositions sociales et environnementales qui s’imposent aux entreprises candidates. Travaux\, fournitures\, services\, … tous les segments d’achats sont concernés par ces évolutions. \nAu programme de cet atelier :\n– Comprendre les obligations en matière de développement durable dans les marchés publics\,\n– Conseils et pistes d’actions pour anticiper ces évolutions et valoriser son offre. \nParticipation gratuite\, inscription obligatoire en complétant le formulaire d’inscription en ligne avant le jeudi 2 février. \n
URL:https://bruche-mossig.fr/event/atelier-marche-public-a-tremplin-entreprises/
LOCATION:Tremplin Entreprises\, 1 rue Gambrinus\, Mutzig\, 67190\, France
CATEGORIES:Développement territorial
END:VEVENT
END:VCALENDAR